BEGIN:VCALENDAR
VERSION:2.0
METHOD:PUBLISH
PRODID:-//Telerik Inc.//Sitefinity CMS 15.2//EN
BEGIN:VTIMEZONE
TZID:Eastern Standard Time
BEGIN:STANDARD
DTSTART:20251102T020000
RRULE:FREQ=YEARLY;BYDAY=1SU;BYHOUR=2;BYMINUTE=0;BYMONTH=11
TZNAME:Eastern Standard Time
TZOFFSETFROM:-0400
TZOFFSETTO:-0500
END:STANDARD
BEGIN:DAYLIGHT
DTSTART:20250301T020000
RRULE:FREQ=YEARLY;BYDAY=2SU;BYHOUR=2;BYMINUTE=0;BYMONTH=3
TZNAME:Eastern Daylight Time
TZOFFSETFROM:-0500
TZOFFSETTO:-0400
END:DAYLIGHT
END:VTIMEZONE
BEGIN:VEVENT
DESCRIPTION:&nbsp\; &nbsp\; &nbsp\; &nbsp\; &nbsp\; &nbsp\; &nbsp\; &nbsp\;
  &nbsp\; &nbsp\; &nbsp\; &nbsp\; &nbsp\; &nbsp\; TOWN OF SURFSIDE&nbsp\; &
 nbsp\; &nbsp\; &nbsp\; &nbsp\; &nbsp\; &nbsp\; &nbsp\; &nbsp\; &nbsp\; &nb
 sp\; &nbsp\; &nbsp\; &nbsp\; &nbsp\; &nbsp\; PUBLIC NOTICE&nbsp\;PLEASE BE
  ADVISED THAT THE TOWN COMMISSION OF THE TOWN OF SURFSIDE\, FLORIDA\, WILL
  HOLD A SPECIAL COMMISSION MEETING ON WEDNESDAY\, APRIL 30\, 2025\, AT 7:0
 0 PM AT 9293 HARDING AVENUE\, SECOND FLOOR COMMISSION CHAMBERS\, SURFSIDE\
 , FLORIDA.THE PURPOSE OF THE SPECIAL COMMISSION MEETING IS TO DISCUSS THE 
 FOLLOWING:&bull\;	Amending the Approval of the Intergovernmental Agency Ag
 reement with Miami-Dade County to Perform Traffic Engineering Functions&bu
 ll\;	Ordinance Amending Chapter 58 &ldquo\;Parks and Recreation&rdquo\; of
  the Town Code to Prohibit Smoking in the Town&rsquo\;s Parks and Public B
 eaches&bull\;	Donation Request to North Beach Compost Hub (MB Botanical Ga
 rden)&bull\;	Surfside Beach Walking Path &ndash\; Sea Grape Installation P
 roposal&bull\;	Kind Designs Tiles for Existing Town Seawalls&bull\;	Propos
 ed Tree Ordinance&bull\;	Donation Request for Pelican Harbor Seabird Stati
 on&bull\;	Open discussion of Sustainability-related Proposals&bull\;	90th 
 Anniversary at Four SeasonsIn accordance with the ADA\, persons with disab
 ilities requiring accommodations in order to participate in this public he
 aring should contact the Office of the Town Clerk at (305) 861-4863 no lat
 er than two business days prior to such proceedings.Please note that one o
 r more members of any Town Board may be present at this meeting.Sandra McC
 ready\, MPA\, MMCTown Clerk
DTEND:20250501T010000Z
DTSTAMP:20260421T162535Z
DTSTART:20250430T230000Z
LOCATION:Commission Chambers\,9293 Harding Avenue
SEQUENCE:0
SUMMARY:CANCELLED - Special Commission Meeting
UID:RFCALITEM639123855351260499
X-ALT-DESC;FMTTYPE=text/html:<div style="text-align:center\;"><strong></str
 ong></div><div style="margin-left:180px\;">&nbsp\; &nbsp\; &nbsp\; &nbsp\;
  &nbsp\; &nbsp\; &nbsp\; &nbsp\; &nbsp\; &nbsp\; &nbsp\; &nbsp\; &nbsp\; &
 nbsp\; TOWN OF SURFSIDE</div><div style="margin-left:180px\;">&nbsp\; &nbs
 p\; &nbsp\; &nbsp\; &nbsp\; &nbsp\; &nbsp\; &nbsp\; &nbsp\; &nbsp\; &nbsp\
 ; &nbsp\; &nbsp\; &nbsp\; &nbsp\; &nbsp\; PUBLIC NOTICE</div><div>&nbsp\;<
 /div><div><br /></div><div>PLEASE BE ADVISED THAT THE TOWN COMMISSION OF T
 HE TOWN OF SURFSIDE\, FLORIDA\, WILL HOLD A SPECIAL COMMISSION MEETING ON 
 WEDNESDAY\, APRIL 30\, 2025\, AT 7:00 PM AT 9293 HARDING AVENUE\, SECOND F
 LOOR COMMISSION CHAMBERS\, SURFSIDE\, FLORIDA.</div><div><br /></div><div>
 THE PURPOSE OF THE SPECIAL COMMISSION MEETING IS TO DISCUSS THE FOLLOWING:
 </div><div><br /></div><div></div><div>&bull\;	Amending the Approval of th
 e Intergovernmental Agency Agreement with Miami-Dade County to Perform Tra
 ffic Engineering Functions</div><div>&bull\;	Ordinance Amending Chapter 58
  &ldquo\;Parks and Recreation&rdquo\; of the Town Code to Prohibit Smoking
  in the Town&rsquo\;s Parks and Public Beaches</div><div>&bull\;	Donation 
 Request to North Beach Compost Hub (MB Botanical Garden)</div><div>&bull\;
 	Surfside Beach Walking Path &ndash\; Sea Grape Installation Proposal</div
 ><div>&bull\;	Kind Designs Tiles for Existing Town Seawalls</div><div>&bul
 l\;	Proposed Tree Ordinance</div><div>&bull\;	Donation Request for Pelican
  Harbor Seabird Station</div><div>&bull\;	Open discussion of Sustainabilit
 y-related Proposals</div><div>&bull\;	90th Anniversary at Four Seasons</di
 v><div><br /></div><div><span style="background-color:initial\;font-size:i
 nherit\;text-align:inherit\;text-transform:inherit\;word-spacing:normal\;c
 aret-color:auto\;white-space:inherit\;">In accordance with the ADA\, perso
 ns with disabilities requiring accommodations in order to participate in t
 his public hearing should contact the Office of the Town Clerk at (305) 86
 1-4863 no later than two business days prior to such proceedings.</span></
 div><div><br /></div><div>Please note that one or more members of any Town
  Board may be present at this meeting.</div><div><br /></div><div>Sandra M
 cCready\, MPA\, MMC</div><div>Town Clerk</div>
END:VEVENT
END:VCALENDAR
